BEGIN:VCALENDAR
PRODID:-//MSIAPromos.com//NONSGML v1.0//EN
VERSION:2.0
CALSCALE:GREGORIAN
METHOD:PUBLISH
X-WR-CALNAME:MSIAPromos.com
X-ORIGINAL-URL:https://msiapromos.com
X-WR-CALDESC:Events for MSIAPromos.com
BEGIN:VEVENT
DTSTART:20130904T000000
DTEND:20130915T235900
DTSTAMP:20260423T105357
CREATED:20130905T142502
LAST-MODIFIED:20130905T143031
UID:7866@https://msiapromos.com
SUMMARY:Qatar Airways Up To 40% Off Promotion Air Fares 4 - 15 Sep 2013
DESCRIPTION:Plan your holiday ahead with Qatar Airways special offer - save up to 40% from regular fares to Africa, Americas, Europe and Middle East.. For more information, visit [ https://msiapromos.com/airlines-flights/qatar-airways-up-to-40-off-promotion-air-fares-4-15-sep-2013-7866/ ]. 
LOCATION:
URL:https://msiapromos.com/airlines-flights/qatar-airways-up-to-40-off-promotion-air-fares-4-15-sep-2013-7866/
END:VEVENT
END:VCALENDAR