BEGIN:VCALENDAR
PRODID:-//MSIAPromos.com//NONSGML v1.0//EN
VERSION:2.0
CALSCALE:GREGORIAN
METHOD:PUBLISH
X-WR-CALNAME:MSIAPromos.com
X-ORIGINAL-URL:https://msiapromos.com
X-WR-CALDESC:Events for MSIAPromos.com
BEGIN:VEVENT
DTSTART:20130823T000000
DTEND:20130829T235900
DTSTAMP:20260423T105218
CREATED:20130823T141600
LAST-MODIFIED:20130823T180610
UID:7456@https://msiapromos.com
SUMMARY:Qatar Airways Up To 30% Off Promotion Air Fares 23 - 29 Aug 2013
DESCRIPTION:With Qatar Airways special offers, travel to over 125 fabulous destinations across the world. Enjoy savings up to 30% for travel up to 31st March 2014.. For more information, visit [ https://msiapromos.com/airlines-flights/qatar-airways-up-to-30-off-promotion-air-fares-23-29-aug-2013-7456/ ]. 
LOCATION:
URL:https://msiapromos.com/airlines-flights/qatar-airways-up-to-30-off-promotion-air-fares-23-29-aug-2013-7456/
END:VEVENT
END:VCALENDAR