BEGIN:VCALENDAR
PRODID:-//MSIAPromos.com//NONSGML v1.0//EN
VERSION:2.0
CALSCALE:GREGORIAN
METHOD:PUBLISH
X-WR-CALNAME:MSIAPromos.com
X-ORIGINAL-URL:https://msiapromos.com
X-WR-CALDESC:Events for MSIAPromos.com
BEGIN:VEVENT
DTSTART:20260430T000000
DTEND:20260430T235900
DTSTAMP:20260425T011534
CREATED:20260424T183759
LAST-MODIFIED:20260424T183759
UID:70780@https://msiapromos.com
SUMMARY:Manhattan Fish Market RM9.90 Fish 'N Chips Dory Deal on 30 April 2026
DESCRIPTION:Crispy fish and chips at a steal, perfect for a pre-holiday treat. For more information, visit [ https://msiapromos.com/dining-restaurants-food/manhattan-fish-market-rm9-90-fish-n-chips-dory-deal-on-30-april-2026-70780/ ]. 
LOCATION:
URL:https://msiapromos.com/dining-restaurants-food/manhattan-fish-market-rm9-90-fish-n-chips-dory-deal-on-30-april-2026-70780/
END:VEVENT
END:VCALENDAR