BEGIN:VCALENDAR
PRODID:-//MSIAPromos.com//NONSGML v1.0//EN
VERSION:2.0
CALSCALE:GREGORIAN
METHOD:PUBLISH
X-WR-CALNAME:MSIAPromos.com
X-ORIGINAL-URL:https://msiapromos.com
X-WR-CALDESC:Events for MSIAPromos.com
BEGIN:VEVENT
DTSTART:20260424T000000
DTEND:20260424T235900
DTSTAMP:20260423T110736
CREATED:20260422T212252
LAST-MODIFIED:20260422T212307
UID:70767@https://msiapromos.com
SUMMARY:Krispy Kreme Malaysia Payday Deal Buy 6, Get 6 Free Original Glazed Doughnuts on 24 April 2026
DESCRIPTION:Enjoy double the doughnuts with a sweet payday deal. For more information, visit [ https://msiapromos.com/dining-restaurants-food/krispy-kreme-malaysia-payday-deal-buy-6-get-6-free-on-24-april-2026-70767/ ]. 
LOCATION:
URL:https://msiapromos.com/dining-restaurants-food/krispy-kreme-malaysia-payday-deal-buy-6-get-6-free-on-24-april-2026-70767/
END:VEVENT
END:VCALENDAR