BEGIN:VCALENDAR
PRODID:-//MSIAPromos.com//NONSGML v1.0//EN
VERSION:2.0
CALSCALE:GREGORIAN
METHOD:PUBLISH
X-WR-CALNAME:MSIAPromos.com
X-ORIGINAL-URL:https://msiapromos.com
X-WR-CALDESC:Events for MSIAPromos.com
BEGIN:VEVENT
DTSTART:20260424T000000
DTEND:20260503T235900
DTSTAMP:20260423T110159
CREATED:20260422T193230
LAST-MODIFIED:20260422T193230
UID:70762@https://msiapromos.com
SUMMARY:Sorella Group Warehouse Sale Has Deals from RM5 (24 Apr-3 May 2026)
DESCRIPTION:Score lingerie and lifestyle deals from RM5. For more information, visit [ https://msiapromos.com/warehouse-sales/sorella-group-warehouse-sale-has-deals-from-rm5-24-apr-3-may-2026-70762/ ]. 
LOCATION:
URL:https://msiapromos.com/warehouse-sales/sorella-group-warehouse-sale-has-deals-from-rm5-24-apr-3-may-2026-70762/
END:VEVENT
END:VCALENDAR