BEGIN:VCALENDAR
PRODID:-//MSIAPromos.com//NONSGML v1.0//EN
VERSION:2.0
CALSCALE:GREGORIAN
METHOD:PUBLISH
X-WR-CALNAME:MSIAPromos.com
X-ORIGINAL-URL:https://msiapromos.com
X-WR-CALDESC:Events for MSIAPromos.com
BEGIN:VEVENT
DTSTART:20260424T000000
DTEND:20260426T235900
DTSTAMP:20260419T221459
CREATED:20260419T193050
LAST-MODIFIED:20260419T193050
UID:70737@https://msiapromos.com
SUMMARY:Love, Bonito Warehouse Sale at The Starling from 24 - 26 April 2026
DESCRIPTION:Score stylish deals with up to 70% off and extra discounts on bulk buys. For more information, visit [ https://msiapromos.com/warehouse-sales/love-bonito-warehouse-sale-at-the-starling-from-24-26-april-2026-70737/ ]. 
LOCATION:
URL:https://msiapromos.com/warehouse-sales/love-bonito-warehouse-sale-at-the-starling-from-24-26-april-2026-70737/
END:VEVENT
END:VCALENDAR