BEGIN:VCALENDAR
PRODID:-//MSIAPromos.com//NONSGML v1.0//EN
VERSION:2.0
CALSCALE:GREGORIAN
METHOD:PUBLISH
X-WR-CALNAME:MSIAPromos.com
X-ORIGINAL-URL:https://msiapromos.com
X-WR-CALDESC:Events for MSIAPromos.com
BEGIN:VEVENT
DTSTART:20260107T000000
DTEND:20260128T235900
DTSTAMP:20260423T124512
CREATED:20260106T183815
LAST-MODIFIED:20260106T183815
UID:70006@https://msiapromos.com
SUMMARY:Manhattan FISH MARKET Malaysia Offers RM15.90 Fish 'N Chips Dory on Wednesdays this Jan 2026
DESCRIPTION:A weekday dining steal. For more information, visit [ https://msiapromos.com/dining-restaurants-food/manhattan-fish-market-malaysia-offers-rm15-90-fish-n-chips-dory-on-wednesdays-this-jan-2026-70006/ ]. 
LOCATION:
URL:https://msiapromos.com/dining-restaurants-food/manhattan-fish-market-malaysia-offers-rm15-90-fish-n-chips-dory-on-wednesdays-this-jan-2026-70006/
END:VEVENT
END:VCALENDAR