BEGIN:VCALENDAR
PRODID:-//MSIAPromos.com//NONSGML v1.0//EN
VERSION:2.0
CALSCALE:GREGORIAN
METHOD:PUBLISH
X-WR-CALNAME:MSIAPromos.com
X-ORIGINAL-URL:https://msiapromos.com
X-WR-CALDESC:Events for MSIAPromos.com
BEGIN:VEVENT
DTSTART:20251121T000000
DTEND:20251204T235900
DTSTAMP:20260421T024837
CREATED:20251122T033348
LAST-MODIFIED:20251122T134840
UID:69561@https://msiapromos.com
SUMMARY:Agoda Up To 20% Off Hotels Black Friday Flash Sale Until 4 Dec, travel up to Feb 2026
DESCRIPTION:Save up to 20% on hotel stays when booking during this limited-time flash sale. For more information, visit [ https://msiapromos.com/vacations/agoda-20-off-hotels-black-friday-flash-sale-until-4-dec-travel-up-to-feb-2026-69561/ ]. 
LOCATION:
URL:https://msiapromos.com/vacations/agoda-20-off-hotels-black-friday-flash-sale-until-4-dec-travel-up-to-feb-2026-69561/
END:VEVENT
END:VCALENDAR