BEGIN:VCALENDAR
PRODID:-//MSIAPromos.com//NONSGML v1.0//EN
VERSION:2.0
CALSCALE:GREGORIAN
METHOD:PUBLISH
X-WR-CALNAME:MSIAPromos.com
X-ORIGINAL-URL:https://msiapromos.com
X-WR-CALDESC:Events for MSIAPromos.com
BEGIN:VEVENT
DTSTART:20251117T000000
DTEND:20251129T235900
DTSTAMP:20260421T024654
CREATED:20251119T174246
LAST-MODIFIED:20251119T174246
UID:69530@https://msiapromos.com
SUMMARY:pCloud Up to 60% OFF lifetime cloud storage Black Friday promo till 29 Nov 2025
DESCRIPTION:Save big on pCloud lifetime plans and bundles before the deal ends. For more information, visit [ https://msiapromos.com/computers-pc/pcloud-up-to-60-off-lifetime-cloud-storage-black-friday-promo-till-29-nov-2025-69530/ ]. 
LOCATION:
URL:https://msiapromos.com/computers-pc/pcloud-up-to-60-off-lifetime-cloud-storage-black-friday-promo-till-29-nov-2025-69530/
END:VEVENT
END:VCALENDAR