BEGIN:VCALENDAR
PRODID:-//MSIAPromos.com//NONSGML v1.0//EN
VERSION:2.0
CALSCALE:GREGORIAN
METHOD:PUBLISH
X-WR-CALNAME:MSIAPromos.com
X-ORIGINAL-URL:https://msiapromos.com
X-WR-CALDESC:Events for MSIAPromos.com
BEGIN:VEVENT
DTSTART:20251015T000000
DTEND:20251201T235900
DTSTAMP:20260421T025215
CREATED:20251015T195715
LAST-MODIFIED:20251015T195715
UID:69210@https://msiapromos.com
SUMMARY:NordVPN Black Friday Malaysia 2025 Save Up to 74% + 3 Free Months till 1 Dec
DESCRIPTION:Grab NordVPN’s Black Friday deal — up to 74% off plus 3 months free, valid until 1 Dec 2025!. For more information, visit [ https://msiapromos.com/computers-pc/nordvpn-black-friday-malaysia-2025-save-up-to-74-3-free-months-till-1-dec-69210/ ]. 
LOCATION:
URL:https://msiapromos.com/computers-pc/nordvpn-black-friday-malaysia-2025-save-up-to-74-3-free-months-till-1-dec-69210/
END:VEVENT
END:VCALENDAR