BEGIN:VCALENDAR
PRODID:-//MSIAPromos.com//NONSGML v1.0//EN
VERSION:2.0
CALSCALE:GREGORIAN
METHOD:PUBLISH
X-WR-CALNAME:MSIAPromos.com
X-ORIGINAL-URL:https://msiapromos.com
X-WR-CALDESC:Events for MSIAPromos.com
BEGIN:VEVENT
DTSTART:20241213T000000
DTEND:20241215T235900
DTSTAMP:20260421T051029
CREATED:20241210T141318
LAST-MODIFIED:20241210T151051
UID:66744@https://msiapromos.com
SUMMARY:Magicboo Beauty Warehouse Sale Returns from 13 - 15 Dec 2024 with Prices from RM1.50
DESCRIPTION:Don't miss Magicboo's biggest sale with amazing bargains!. For more information, visit [ https://msiapromos.com/warehouse-sales/magicboo-beauty-warehouse-sale-returns-from-13-15-dec-2024-with-prices-from-rm1-50-66744/ ]. 
LOCATION:
URL:https://msiapromos.com/warehouse-sales/magicboo-beauty-warehouse-sale-returns-from-13-15-dec-2024-with-prices-from-rm1-50-66744/
END:VEVENT
END:VCALENDAR