BEGIN:VCALENDAR
PRODID:-//MSIAPromos.com//NONSGML v1.0//EN
VERSION:2.0
CALSCALE:GREGORIAN
METHOD:PUBLISH
X-WR-CALNAME:MSIAPromos.com
X-ORIGINAL-URL:https://msiapromos.com
X-WR-CALDESC:Events for MSIAPromos.com
BEGIN:VEVENT
DTSTART:20231111T000000
DTEND:20231111T235900
DTSTAMP:20260426T032321
CREATED:20231111T121349
LAST-MODIFIED:20231111T130817
UID:63161@https://msiapromos.com
SUMMARY:llaollao selling medium tub with 2 toppings for just RM11 on 11 Nov 2023
DESCRIPTION:Savour the deliciousness. For more information, visit [ https://msiapromos.com/dining-restaurants-food/llaollao-selling-medium-tub-with-2-toppings-for-just-rm11-on-11-nov-2023-63161/ ]. 
LOCATION:
URL:https://msiapromos.com/dining-restaurants-food/llaollao-selling-medium-tub-with-2-toppings-for-just-rm11-on-11-nov-2023-63161/
END:VEVENT
END:VCALENDAR