BEGIN:VCALENDAR
PRODID:-//MSIAPromos.com//NONSGML v1.0//EN
VERSION:2.0
CALSCALE:GREGORIAN
METHOD:PUBLISH
X-WR-CALNAME:MSIAPromos.com
X-ORIGINAL-URL:https://msiapromos.com
X-WR-CALDESC:Events for MSIAPromos.com
BEGIN:VEVENT
DTSTART:20231108T000000
DTEND:20231114T235900
DTSTAMP:20260426T031927
CREATED:20231107T183607
LAST-MODIFIED:20231107T183607
UID:63146@https://msiapromos.com
SUMMARY:Subway offering RM11 subs for 11.11 week special from 8 - 14 Nov 2023
DESCRIPTION:11 subs to choose from. For more information, visit [ https://msiapromos.com/dining-restaurants-food/subway-offering-rm11-subs-for-11-11-week-special-from-8-14-nov-2023-63146/ ]. 
LOCATION:
URL:https://msiapromos.com/dining-restaurants-food/subway-offering-rm11-subs-for-11-11-week-special-from-8-14-nov-2023-63146/
END:VEVENT
END:VCALENDAR