BEGIN:VCALENDAR
PRODID:-//MSIAPromos.com//NONSGML v1.0//EN
VERSION:2.0
CALSCALE:GREGORIAN
METHOD:PUBLISH
X-WR-CALNAME:MSIAPromos.com
X-ORIGINAL-URL:https://msiapromos.com
X-WR-CALDESC:Events for MSIAPromos.com
BEGIN:VEVENT
DTSTART:20230104T000000
DTEND:20230118T235900
DTSTAMP:20260421T025840
CREATED:20230104T173954
LAST-MODIFIED:20230104T173954
UID:61783@https://msiapromos.com
SUMMARY:Malaysia Airlines offering up to 45% off airfares to all domestic & selected international destinations till 18 Jan 2023
DESCRIPTION:Usher the new year with Malaysia Airlines. For more information, visit [ https://msiapromos.com/airlines-flights/malaysia-airlines-offering-up-to-45-off-airfares-to-all-domestic-selected-international-destinations-till-18-jan-2023-61783/ ]. 
LOCATION:
URL:https://msiapromos.com/airlines-flights/malaysia-airlines-offering-up-to-45-off-airfares-to-all-domestic-selected-international-destinations-till-18-jan-2023-61783/
END:VEVENT
END:VCALENDAR