BEGIN:VCALENDAR
PRODID:-//MSIAPromos.com//NONSGML v1.0//EN
VERSION:2.0
CALSCALE:GREGORIAN
METHOD:PUBLISH
X-WR-CALNAME:MSIAPromos.com
X-ORIGINAL-URL:https://msiapromos.com
X-WR-CALDESC:Events for MSIAPromos.com
BEGIN:VEVENT
DTSTART:20220518T000000
DTEND:20220518T235900
DTSTAMP:20260421T045738
CREATED:20220518T114749
LAST-MODIFIED:20220518T114749
UID:61315@https://msiapromos.com
SUMMARY:llaollao: 33% off medium tub, large tub, sanum, smoothie and smoothie plus on 18 May 2022
DESCRIPTION:Show yourself a little love with a yummy froyo!. For more information, visit [ https://msiapromos.com/dining-restaurants-food/llaollao-33-off-medium-tub-large-tub-sanum-smoothie-and-smoothie-plus-on-18-may-2022-61315/ ]. 
LOCATION:
URL:https://msiapromos.com/dining-restaurants-food/llaollao-33-off-medium-tub-large-tub-sanum-smoothie-and-smoothie-plus-on-18-may-2022-61315/
END:VEVENT
END:VCALENDAR