BEGIN:VCALENDAR
PRODID:-//MSIAPromos.com//NONSGML v1.0//EN
VERSION:2.0
CALSCALE:GREGORIAN
METHOD:PUBLISH
X-WR-CALNAME:MSIAPromos.com
X-ORIGINAL-URL:https://msiapromos.com
X-WR-CALDESC:Events for MSIAPromos.com
BEGIN:VEVENT
DTSTART:20211201T000000
DTEND:20211231T235900
DTSTAMP:20260421T045440
CREATED:20211206T145626
LAST-MODIFIED:20211206T145626
UID:60925@https://msiapromos.com
SUMMARY:Zalora: Save up to 25% off with these coupon codes for new & existing customers till 31 Dec 2021
DESCRIPTION:Enjoy discounts at Zalora with the below coupon codes. For more information, visit [ https://msiapromos.com/department-stores/zalora-save-up-to-25-off-with-these-coupon-codes-for-new-existing-customers-till-31-dec-2021-60925/ ]. 
LOCATION:
URL:https://msiapromos.com/department-stores/zalora-save-up-to-25-off-with-these-coupon-codes-for-new-existing-customers-till-31-dec-2021-60925/
END:VEVENT
END:VCALENDAR