BEGIN:VCALENDAR
PRODID:-//MSIAPromos.com//NONSGML v1.0//EN
VERSION:2.0
CALSCALE:GREGORIAN
METHOD:PUBLISH
X-WR-CALNAME:MSIAPromos.com
X-ORIGINAL-URL:https://msiapromos.com
X-WR-CALDESC:Events for MSIAPromos.com
BEGIN:VEVENT
DTSTART:20130705T000000
DTEND:20130706T235900
DTSTAMP:20260422T083543
CREATED:20130702T121450
LAST-MODIFIED:20130626T121828
UID:6018@https://msiapromos.com
SUMMARY:Pacific Cosmetics Fragrance, Cosmetics & Haircare Warehouse Sale 5 - 6 Jul 2013
DESCRIPTION:Pacific Cosmetics will having a warehouse sales at Park Royal Kuala Lumpur from 5 July to 6 July 2013, 10am to 7pm.. For more information, visit [ https://msiapromos.com/warehouse-sales/pacific-cosmetics-fragrance-cosmetics-haircare-warehouse-sale-5-6-jul-2013-6018/ ]. 
LOCATION:
URL:https://msiapromos.com/warehouse-sales/pacific-cosmetics-fragrance-cosmetics-haircare-warehouse-sale-5-6-jul-2013-6018/
END:VEVENT
END:VCALENDAR