BEGIN:VCALENDAR
PRODID:-//MSIAPromos.com//NONSGML v1.0//EN
VERSION:2.0
CALSCALE:GREGORIAN
METHOD:PUBLISH
X-WR-CALNAME:MSIAPromos.com
X-ORIGINAL-URL:https://msiapromos.com
X-WR-CALDESC:Events for MSIAPromos.com
BEGIN:VEVENT
DTSTART:20200501T000000
DTEND:20200531T235900
DTSTAMP:20260421T030407
CREATED:20200508T175520
LAST-MODIFIED:20200508T175520
UID:59674@https://msiapromos.com
SUMMARY:Zalora: (NO Min Spend!) Save 25% OFF for new customers / 15% OFF for returning customers with these coupon codes valid till 31 May 2020
DESCRIPTION:Enjoy 25% OFF for new customers / 15% OFF for returning customers with no minimum spend at Zalora with the below coupon code.. For more information, visit [ https://msiapromos.com/department-stores/zalora-no-min-spend-save-25-off-for-new-customers-15-off-for-returning-customers-with-these-coupon-codes-valid-till-31-may-2020-59674/ ]. 
LOCATION:
URL:https://msiapromos.com/department-stores/zalora-no-min-spend-save-25-off-for-new-customers-15-off-for-returning-customers-with-these-coupon-codes-valid-till-31-may-2020-59674/
END:VEVENT
END:VCALENDAR