BEGIN:VCALENDAR
PRODID:-//MSIAPromos.com//NONSGML v1.0//EN
VERSION:2.0
CALSCALE:GREGORIAN
METHOD:PUBLISH
X-WR-CALNAME:MSIAPromos.com
X-ORIGINAL-URL:https://msiapromos.com
X-WR-CALDESC:Events for MSIAPromos.com
BEGIN:VEVENT
DTSTART:20200201T000000
DTEND:20200229T235900
DTSTAMP:20260421T030130
CREATED:20200131T190138
LAST-MODIFIED:20200131T190149
UID:59509@https://msiapromos.com
SUMMARY:Zalora: Save 25% OFF for new customers / 15% OFF for returning customers with no minimum spend with this coupon code valid from 1 - 29 Feb 2020
DESCRIPTION:Enjoy 25% OFF for new customers / 15% OFF for returning customers with no minimum spend at Zalora with the below coupon code.. For more information, visit [ https://msiapromos.com/department-stores/zalora-save-25-off-for-new-customers-15-off-for-returning-customers-with-no-minimum-spend-with-this-coupon-code-valid-from-1-29-feb-2020-59509/ ]. 
LOCATION:
URL:https://msiapromos.com/department-stores/zalora-save-25-off-for-new-customers-15-off-for-returning-customers-with-no-minimum-spend-with-this-coupon-code-valid-from-1-29-feb-2020-59509/
END:VEVENT
END:VCALENDAR