BEGIN:VCALENDAR
PRODID:-//MSIAPromos.com//NONSGML v1.0//EN
VERSION:2.0
CALSCALE:GREGORIAN
METHOD:PUBLISH
X-WR-CALNAME:MSIAPromos.com
X-ORIGINAL-URL:https://msiapromos.com
X-WR-CALDESC:Events for MSIAPromos.com
BEGIN:VEVENT
DTSTART:20191129T000000
DTEND:20191129T235900
DTSTAMP:20260421T030018
CREATED:20191128T130301
LAST-MODIFIED:20191121T210837
UID:59284@https://msiapromos.com
SUMMARY:Zalora: Save 20% - 25% OFF with these Black Friday & Cyber Monday coupon codes valid on 29 November 2019
DESCRIPTION:Enjoy 25% OFF at Zalora with the below coupon code.. For more information, visit [ https://msiapromos.com/department-stores/zalora-save-20-25-off-with-these-black-friday-cyber-monday-coupon-codes-valid-on-29-november-2019-59284/ ]. 
LOCATION:
URL:https://msiapromos.com/department-stores/zalora-save-20-25-off-with-these-black-friday-cyber-monday-coupon-codes-valid-on-29-november-2019-59284/
END:VEVENT
END:VCALENDAR