BEGIN:VCALENDAR
PRODID:-//MSIAPromos.com//NONSGML v1.0//EN
VERSION:2.0
CALSCALE:GREGORIAN
METHOD:PUBLISH
X-WR-CALNAME:MSIAPromos.com
X-ORIGINAL-URL:https://msiapromos.com
X-WR-CALDESC:Events for MSIAPromos.com
BEGIN:VEVENT
DTSTART:20190626T000000
DTEND:20190709T235900
DTSTAMP:20260419T203407
CREATED:20190626T133728
LAST-MODIFIED:20190626T133728
UID:58906@https://msiapromos.com
SUMMARY:Steam 2019 Summer Sale now on till 9 July 2019
DESCRIPTION:The Steam Summer Sale is on now. For more information, visit [ https://msiapromos.com/video-games/steam-2019-summer-sale-now-on-till-9-july-2019-58906/ ]. 
LOCATION:
URL:https://msiapromos.com/video-games/steam-2019-summer-sale-now-on-till-9-july-2019-58906/
END:VEVENT
END:VCALENDAR