BEGIN:VCALENDAR
PRODID:-//MSIAPromos.com//NONSGML v1.0//EN
VERSION:2.0
CALSCALE:GREGORIAN
METHOD:PUBLISH
X-WR-CALNAME:MSIAPromos.com
X-ORIGINAL-URL:https://msiapromos.com
X-WR-CALDESC:Events for MSIAPromos.com
BEGIN:VEVENT
DTSTART:20180804T000000
DTEND:20180804T235900
DTSTAMP:20260419T225853
CREATED:20180802T135448
LAST-MODIFIED:20180802T135448
UID:57961@https://msiapromos.com
SUMMARY:T-Pot warehouse sale at Shah Alam on 4 Aug 2018
DESCRIPTION:T-Pot will be having a Warehouse sale on 4 Aug 2018. For more information, visit [ https://msiapromos.com/warehouse-sales/t-pot-warehouse-sale-at-shah-alam-on-4-aug-2018-57961/ ]. 
LOCATION:
URL:https://msiapromos.com/warehouse-sales/t-pot-warehouse-sale-at-shah-alam-on-4-aug-2018-57961/
END:VEVENT
END:VCALENDAR