BEGIN:VCALENDAR
PRODID:-//MSIAPromos.com//NONSGML v1.0//EN
VERSION:2.0
CALSCALE:GREGORIAN
METHOD:PUBLISH
X-WR-CALNAME:MSIAPromos.com
X-ORIGINAL-URL:https://msiapromos.com
X-WR-CALDESC:Events for MSIAPromos.com
BEGIN:VEVENT
DTSTART:20180606T000000
DTEND:20180610T235900
DTSTAMP:20260422T083543
CREATED:20180603T164828
LAST-MODIFIED:20180605T172456
UID:57794@https://msiapromos.com
SUMMARY:Royal Sporting House sports & fashion warehouse sale from 6 - 10 Jun 2018
DESCRIPTION:The RSH Mega Warehouse Sale is back and better than ever!. For more information, visit [ https://msiapromos.com/warehouse-sales/royal-sporting-house-sports-fashion-warehouse-sale-from-6-10-jun-2018-57794/ ]. 
LOCATION:
URL:https://msiapromos.com/warehouse-sales/royal-sporting-house-sports-fashion-warehouse-sale-from-6-10-jun-2018-57794/
END:VEVENT
END:VCALENDAR