BEGIN:VCALENDAR
PRODID:-//MSIAPromos.com//NONSGML v1.0//EN
VERSION:2.0
CALSCALE:GREGORIAN
METHOD:PUBLISH
X-WR-CALNAME:MSIAPromos.com
X-ORIGINAL-URL:https://msiapromos.com
X-WR-CALDESC:Events for MSIAPromos.com
BEGIN:VEVENT
DTSTART:20171219T000000
DTEND:20171231T235900
DTSTAMP:20260423T092914
CREATED:20171219T101747
LAST-MODIFIED:20171219T101747
UID:57099@https://msiapromos.com
SUMMARY:Parallels Desktop 13 for Mac 15% to 20% OFF coupon codes! Ends 31 Dec 2017
DESCRIPTION:For a limited time, get 15% to 20% off Parallels Desktop 13 for Mac. Use Mac and Windows applications side-by-side, without rebooting. Bring your favourite Windows applications to Mac. For more information, visit [ https://msiapromos.com/computers-pc/parallels-desktop-13-for-mac-15-to-20-off-coupon-codes-ends-31-dec-2017-57099/ ]. 
LOCATION:
URL:https://msiapromos.com/computers-pc/parallels-desktop-13-for-mac-15-to-20-off-coupon-codes-ends-31-dec-2017-57099/
END:VEVENT
END:VCALENDAR