BEGIN:VCALENDAR
PRODID:-//MSIAPromos.com//NONSGML v1.0//EN
VERSION:2.0
CALSCALE:GREGORIAN
METHOD:PUBLISH
X-WR-CALNAME:MSIAPromos.com
X-ORIGINAL-URL:https://msiapromos.com
X-WR-CALDESC:Events for MSIAPromos.com
BEGIN:VEVENT
DTSTART:20170925T000000
DTEND:20170927T235900
DTSTAMP:20260423T091228
CREATED:20170925T152812
LAST-MODIFIED:20170925T152812
UID:56340@https://msiapromos.com
SUMMARY:Parallels Desktop 13 for Mac 15% off coupon code! Only from 25 - 27 Sep 2017
DESCRIPTION:For a limited time, get 15% off Parallels Desktop 13 for Mac. Use Mac and Windows applications side-by-side, without rebooting. Bring your favorite Windows applications to Mac. For more information, visit [ https://msiapromos.com/computers-pc/parallels-desktop-13-for-mac-15-off-coupon-code-only-from-25-27-sep-2017-56340/ ]. 
LOCATION:
URL:https://msiapromos.com/computers-pc/parallels-desktop-13-for-mac-15-off-coupon-code-only-from-25-27-sep-2017-56340/
END:VEVENT
END:VCALENDAR