BEGIN:VCALENDAR
PRODID:-//MSIAPromos.com//NONSGML v1.0//EN
VERSION:2.0
CALSCALE:GREGORIAN
METHOD:PUBLISH
X-WR-CALNAME:MSIAPromos.com
X-ORIGINAL-URL:https://msiapromos.com
X-WR-CALDESC:Events for MSIAPromos.com
BEGIN:VEVENT
DTSTART:20170601T000000
DTEND:20170630T235900
DTSTAMP:20260421T045440
CREATED:20170531T185449
LAST-MODIFIED:20170701T001402
UID:55754@https://msiapromos.com
SUMMARY:Zalora: Save 13% OFF (RM150 Min Spend) & FREE shipping with this coupon code! Valid from 1 - 30 Jun 2017
DESCRIPTION:Enjoy 13% OFF at Zalora with the below coupon code. Zalora offers delivery anywhere in Malaysia on all orders! Delivery is FREE for all orders of RM75 and above, Valid for sale items too!. For more information, visit [ https://msiapromos.com/department-stores/zalora-save-13-off-rm150-min-spend-free-shipping-with-this-coupon-code-valid-from-1-30-jun-2017-55754/ ]. 
LOCATION:
URL:https://msiapromos.com/department-stores/zalora-save-13-off-rm150-min-spend-free-shipping-with-this-coupon-code-valid-from-1-30-jun-2017-55754/
END:VEVENT
END:VCALENDAR