BEGIN:VCALENDAR
PRODID:-//MSIAPromos.com//NONSGML v1.0//EN
VERSION:2.0
CALSCALE:GREGORIAN
METHOD:PUBLISH
X-WR-CALNAME:MSIAPromos.com
X-ORIGINAL-URL:https://msiapromos.com
X-WR-CALDESC:Events for MSIAPromos.com
BEGIN:VEVENT
DTSTART:20170603T000000
DTEND:20170603T235900
DTSTAMP:20260423T105321
CREATED:20170529T124635
LAST-MODIFIED:20170529T124635
UID:55745@https://msiapromos.com
SUMMARY:T-Pot warehouse sale at Shah Alam on 3 Jun 2017
DESCRIPTION:T-Pot will be having a Warehouse sale on 3 Jun 2017, Branded Home Appliances on sale. Products offered include refrigerator, freezer, washing machine, tv, air conditioner, fan, tablet, laptop and many more!. For more information, visit [ https://msiapromos.com/warehouse-sales/t-pot-warehouse-sale-at-shah-alam-on-3-jun-2017-55745/ ]. 
LOCATION:
URL:https://msiapromos.com/warehouse-sales/t-pot-warehouse-sale-at-shah-alam-on-3-jun-2017-55745/
END:VEVENT
END:VCALENDAR