BEGIN:VCALENDAR
PRODID:-//MSIAPromos.com//NONSGML v1.0//EN
VERSION:2.0
CALSCALE:GREGORIAN
METHOD:PUBLISH
X-WR-CALNAME:MSIAPromos.com
X-ORIGINAL-URL:https://msiapromos.com
X-WR-CALDESC:Events for MSIAPromos.com
BEGIN:VEVENT
DTSTART:20170427T000000
DTEND:20170427T235900
DTSTAMP:20260421T045609
CREATED:20170427T110532
LAST-MODIFIED:20170427T110532
UID:55617@https://msiapromos.com
SUMMARY:TODAY ONLY: Save 18% OFF at Zalora (RM200 Min Spend) with free shipping. Valid on 27 Apr 2017
DESCRIPTION:Enjoy 18% OFF at Zalora with the below coupon code. Zalora offers delivery anywhere in Malaysia on all orders! Delivery is FREE for all orders of RM75 and above. For more information, visit [ https://msiapromos.com/department-stores/today-only-save-18-off-at-zalora-rm200-min-spend-with-free-shipping-valid-on-27-apr-2017-55617/ ]. 
LOCATION:
URL:https://msiapromos.com/department-stores/today-only-save-18-off-at-zalora-rm200-min-spend-with-free-shipping-valid-on-27-apr-2017-55617/
END:VEVENT
END:VCALENDAR