BEGIN:VCALENDAR
PRODID:-//MSIAPromos.com//NONSGML v1.0//EN
VERSION:2.0
CALSCALE:GREGORIAN
METHOD:PUBLISH
X-WR-CALNAME:MSIAPromos.com
X-ORIGINAL-URL:https://msiapromos.com
X-WR-CALDESC:Events for MSIAPromos.com
BEGIN:VEVENT
DTSTART:20170428T000000
DTEND:20170501T235900
DTSTAMP:20260423T121911
CREATED:20170426T192756
LAST-MODIFIED:20170426T192756
UID:55613@https://msiapromos.com
SUMMARY:Padini storewide special sale is back! Happening for 4-days only from 28 Apr - 1 May 2017
DESCRIPTION:Padini's much awaited 4 Days Special Storewide Sale is just around the corner! Head over to any Padini Concept Store outlets from 28th Apr - 1st May 2017 to enjoy great deals from your favourite brands!. For more information, visit [ https://msiapromos.com/fashion-accessories/padini-storewide-special-sale-is-back-happening-for-4-days-only-from-28-apr-1-may-2017-55613/ ]. 
LOCATION:
URL:https://msiapromos.com/fashion-accessories/padini-storewide-special-sale-is-back-happening-for-4-days-only-from-28-apr-1-may-2017-55613/
END:VEVENT
END:VCALENDAR