BEGIN:VCALENDAR
PRODID:-//MSIAPromos.com//NONSGML v1.0//EN
VERSION:2.0
CALSCALE:GREGORIAN
METHOD:PUBLISH
X-WR-CALNAME:MSIAPromos.com
X-ORIGINAL-URL:https://msiapromos.com
X-WR-CALDESC:Events for MSIAPromos.com
BEGIN:VEVENT
DTSTART:20170504T000000
DTEND:20170507T235900
DTSTAMP:20260423T122838
CREATED:20170425T184110
LAST-MODIFIED:20170425T184110
UID:55601@https://msiapromos.com
SUMMARY:NICI Malaysia toys warehouse sale - Up to 90% OFF! From 4 - 7 May 2017
DESCRIPTION:NICI Malaysia will be holding their warehouse sale in conjunction with their 45th anniversary celebration this year being one of the major leaders in the toy industry in Malaysia.. For more information, visit [ https://msiapromos.com/warehouse-sales/nici-malaysia-toys-warehouse-sale-up-to-90-off-from-4-7-may-2017-55601/ ]. 
LOCATION:
URL:https://msiapromos.com/warehouse-sales/nici-malaysia-toys-warehouse-sale-up-to-90-off-from-4-7-may-2017-55601/
END:VEVENT
END:VCALENDAR