BEGIN:VCALENDAR
PRODID:-//MSIAPromos.com//NONSGML v1.0//EN
VERSION:2.0
CALSCALE:GREGORIAN
METHOD:PUBLISH
X-WR-CALNAME:MSIAPromos.com
X-ORIGINAL-URL:https://msiapromos.com
X-WR-CALDESC:Events for MSIAPromos.com
BEGIN:VEVENT
DTSTART:20170420T000000
DTEND:20170424T235900
DTSTAMP:20260423T122503
CREATED:20170422T141450
LAST-MODIFIED:20170422T141450
UID:55594@https://msiapromos.com
SUMMARY:Courts offers up to 80% cash savings storewide from 20 - 24 Apr 2017
DESCRIPTION:Courts Mammoth is having a promotion featuring cash savings of up to than 80% storewide. For more information, visit [ https://msiapromos.com/department-stores/courts-offers-up-to-80-cash-savings-storewide-from-20-24-apr-2017-55594/ ]. 
LOCATION:
URL:https://msiapromos.com/department-stores/courts-offers-up-to-80-cash-savings-storewide-from-20-24-apr-2017-55594/
END:VEVENT
END:VCALENDAR