BEGIN:VCALENDAR
PRODID:-//MSIAPromos.com//NONSGML v1.0//EN
VERSION:2.0
CALSCALE:GREGORIAN
METHOD:PUBLISH
X-WR-CALNAME:MSIAPromos.com
X-ORIGINAL-URL:https://msiapromos.com
X-WR-CALDESC:Events for MSIAPromos.com
BEGIN:VEVENT
DTSTART:20170113T000000
DTEND:20170122T235900
DTSTAMP:20260419T231513
CREATED:20170110T183755
LAST-MODIFIED:20170110T183755
UID:54999@https://msiapromos.com
SUMMARY:Jetz warehouse sale offers up to 80% discounts at 1Shamelin from 13 - 22 Jan 2017
DESCRIPTION:From this Friday, 13 - 22 January 2017, 10.30am - 9.30pm at 1Shamelin Level 3, Jetz will be having a warehouse sale. Enjoy up to 80% off Fashion & Shoe, Household Products, Bags & Luggage, Confectionery,* Electrical & CNY Deco. For more information, visit [ https://msiapromos.com/warehouse-sales/jetz-warehouse-sale-offers-up-to-80-discounts-at-1shamelin-from-13-22-jan-2017-54999/ ]. 
LOCATION:
URL:https://msiapromos.com/warehouse-sales/jetz-warehouse-sale-offers-up-to-80-discounts-at-1shamelin-from-13-22-jan-2017-54999/
END:VEVENT
END:VCALENDAR