BEGIN:VCALENDAR
PRODID:-//MSIAPromos.com//NONSGML v1.0//EN
VERSION:2.0
CALSCALE:GREGORIAN
METHOD:PUBLISH
X-WR-CALNAME:MSIAPromos.com
X-ORIGINAL-URL:https://msiapromos.com
X-WR-CALDESC:Events for MSIAPromos.com
BEGIN:VEVENT
DTSTART:20161229T000000
DTEND:20170102T235900
DTSTAMP:20260419T232250
CREATED:20161226T163751
LAST-MODIFIED:20161226T163751
UID:54907@https://msiapromos.com
SUMMARY:Shoppers Hub branded warehouse sale on Mango, Zara, Guess, Levi's & more at 1 Shamelin from 29 Dec 2016 - 2 Jan 2017
DESCRIPTION:Shoppers Hub will be having their 2016 Year End Exclusive Branded Warehouse at 1Shamelin Mall from 29 Dec - 2 Jan 2017!. For more information, visit [ https://msiapromos.com/warehouse-sales/shoppers-hub-branded-warehouse-sale-on-mango-zara-guess-levis-more-at-1-shamelin-from-29-dec-2016-2-jan-2017-54907/ ]. 
LOCATION:
URL:https://msiapromos.com/warehouse-sales/shoppers-hub-branded-warehouse-sale-on-mango-zara-guess-levis-more-at-1-shamelin-from-29-dec-2016-2-jan-2017-54907/
END:VEVENT
END:VCALENDAR