BEGIN:VCALENDAR
PRODID:-//MSIAPromos.com//NONSGML v1.0//EN
VERSION:2.0
CALSCALE:GREGORIAN
METHOD:PUBLISH
X-WR-CALNAME:MSIAPromos.com
X-ORIGINAL-URL:https://msiapromos.com
X-WR-CALDESC:Events for MSIAPromos.com
BEGIN:VEVENT
DTSTART:20161201T000000
DTEND:20161231T235900
DTSTAMP:20260421T045609
CREATED:20161201T132715
LAST-MODIFIED:20161212T234207
UID:54627@https://msiapromos.com
SUMMARY:Save 15% OFF at Zalora (RM150 Min Spend) with free shipping with this coupon code from 1 - 31 Dec 2016
DESCRIPTION:Enjoy 15% OFF at Zalora with the below coupon code. Zalora offers delivery anywhere in Malaysia on all orders! Delivery is FREE for all orders of RM75 and above. For more information, visit [ https://msiapromos.com/department-stores/save-15-off-at-zalora-rm150-min-spend-with-free-shipping-with-this-coupon-code-from-1-31-dec-2016-54627/ ]. 
LOCATION:
URL:https://msiapromos.com/department-stores/save-15-off-at-zalora-rm150-min-spend-with-free-shipping-with-this-coupon-code-from-1-31-dec-2016-54627/
END:VEVENT
END:VCALENDAR