BEGIN:VCALENDAR
PRODID:-//MSIAPromos.com//NONSGML v1.0//EN
VERSION:2.0
CALSCALE:GREGORIAN
METHOD:PUBLISH
X-WR-CALNAME:MSIAPromos.com
X-ORIGINAL-URL:https://msiapromos.com
X-WR-CALDESC:Events for MSIAPromos.com
BEGIN:VEVENT
DTSTART:20161101T000000
DTEND:20161130T235900
DTSTAMP:20260421T045738
CREATED:20161028T110126
LAST-MODIFIED:20161028T110126
UID:53972@https://msiapromos.com
SUMMARY:Zalora: 15% OFF RM150 Min Spend w/ Free Shipping Storewide Coupon Code from 1 - 30 Nov 2016
DESCRIPTION:Enjoy 15% OFF at Zalora with the below coupon code. Zalora offers delivery anywhere in Malaysia on all orders! Delivery is FREE for all orders of RM75 and above. For more information, visit [ https://msiapromos.com/department-stores/zalora-15-off-rm150-min-spend-w-free-shipping-storewide-coupon-code-from-1-30-nov-2016-53972/ ]. 
LOCATION:
URL:https://msiapromos.com/department-stores/zalora-15-off-rm150-min-spend-w-free-shipping-storewide-coupon-code-from-1-30-nov-2016-53972/
END:VEVENT
END:VCALENDAR