BEGIN:VCALENDAR
PRODID:-//MSIAPromos.com//NONSGML v1.0//EN
VERSION:2.0
CALSCALE:GREGORIAN
METHOD:PUBLISH
X-WR-CALNAME:MSIAPromos.com
X-ORIGINAL-URL:https://msiapromos.com
X-WR-CALDESC:Events for MSIAPromos.com
BEGIN:VEVENT
DTSTART:20161025T000000
DTEND:20161026T235900
DTSTAMP:20260421T045413
CREATED:20161021T201151
LAST-MODIFIED:20161021T201151
UID:53897@https://msiapromos.com
SUMMARY:Zalora: 18% OFF RM200 Min Spend w/ Free Shipping Storewide Coupon Code from 25 - 26 Oct 2016
DESCRIPTION:Enjoy 18% OFF at Zalora with the below coupon code. Zalora offers delivery anywhere in Malaysia on all orders! Delivery is FREE for all orders of RM75 and above. For more information, visit [ https://msiapromos.com/department-stores/zalora-18-off-rm200-min-spend-w-free-shipping-storewide-coupon-code-from-25-26-oct-2016-53897/ ]. 
LOCATION:
URL:https://msiapromos.com/department-stores/zalora-18-off-rm200-min-spend-w-free-shipping-storewide-coupon-code-from-25-26-oct-2016-53897/
END:VEVENT
END:VCALENDAR