BEGIN:VCALENDAR
PRODID:-//MSIAPromos.com//NONSGML v1.0//EN
VERSION:2.0
CALSCALE:GREGORIAN
METHOD:PUBLISH
X-WR-CALNAME:MSIAPromos.com
X-ORIGINAL-URL:https://msiapromos.com
X-WR-CALDESC:Events for MSIAPromos.com
BEGIN:VEVENT
DTSTART:20160927T000000
DTEND:20160927T235900
DTSTAMP:20260421T045557
CREATED:20160927T122250
LAST-MODIFIED:20160927T122250
UID:53637@https://msiapromos.com
SUMMARY:Zalora: 18% OFF RM170 Min Spend w/ Free Shipping Storewide Coupon Code on 27 Sep 2016
DESCRIPTION:Enjoy 18% OFF at Zalora with the below coupon code. Zalora offers delivery anywhere in Malaysia on all orders! Delivery is FREE for all orders of RM75 and above. For more information, visit [ https://msiapromos.com/department-stores/zalora-18-off-rm170-min-spend-w-free-shipping-storewide-coupon-code-on-27-sep-2016-53637/ ]. 
LOCATION:
URL:https://msiapromos.com/department-stores/zalora-18-off-rm170-min-spend-w-free-shipping-storewide-coupon-code-on-27-sep-2016-53637/
END:VEVENT
END:VCALENDAR