BEGIN:VCALENDAR
PRODID:-//MSIAPromos.com//NONSGML v1.0//EN
VERSION:2.0
CALSCALE:GREGORIAN
METHOD:PUBLISH
X-WR-CALNAME:MSIAPromos.com
X-ORIGINAL-URL:https://msiapromos.com
X-WR-CALDESC:Events for MSIAPromos.com
BEGIN:VEVENT
DTSTART:20160401T000000
DTEND:20160430T235900
DTSTAMP:20260419T234508
CREATED:20160331T194521
LAST-MODIFIED:20160331T194620
UID:50735@https://msiapromos.com
SUMMARY:Zalora 15% OFF RM150 Min Spend w/ Free Shipping Storewide Coupon Code 1 - 30 Apr 2016
DESCRIPTION:Enjoy 15% OFF at Zalora with the below coupon code. Zalora offers delivery anywhere in Malaysia on all orders! Delivery is FREE for all orders of RM75 and above. For more information, visit [ https://msiapromos.com/department-stores/zalora-15-off-rm150-min-spend-w-free-shipping-storewide-coupon-code-1-30-apr-2016-50735/ ]. 
LOCATION:
URL:https://msiapromos.com/department-stores/zalora-15-off-rm150-min-spend-w-free-shipping-storewide-coupon-code-1-30-apr-2016-50735/
END:VEVENT
END:VCALENDAR