BEGIN:VCALENDAR
PRODID:-//MSIAPromos.com//NONSGML v1.0//EN
VERSION:2.0
CALSCALE:GREGORIAN
METHOD:PUBLISH
X-WR-CALNAME:MSIAPromos.com
X-ORIGINAL-URL:https://msiapromos.com
X-WR-CALDESC:Events for MSIAPromos.com
BEGIN:VEVENT
DTSTART:20160331T000000
DTEND:20160401T235900
DTSTAMP:20260419T234509
CREATED:20160331T190939
LAST-MODIFIED:20160331T191003
UID:50730@https://msiapromos.com
SUMMARY:Parallels Desktop $10 Off Promo Coupon Code 31 Mar - 1 Apr 2016
DESCRIPTION:For a limited time, get $10 off Parallels Desktop 11 Full License. For more information, visit [ https://msiapromos.com/computers-pc/parallels-desktop-10-off-promo-coupon-code-31-mar-1-apr-2016-50730/ ]. 
LOCATION:
URL:https://msiapromos.com/computers-pc/parallels-desktop-10-off-promo-coupon-code-31-mar-1-apr-2016-50730/
END:VEVENT
END:VCALENDAR