BEGIN:VCALENDAR
PRODID:-//MSIAPromos.com//NONSGML v1.0//EN
VERSION:2.0
CALSCALE:GREGORIAN
METHOD:PUBLISH
X-WR-CALNAME:MSIAPromos.com
X-ORIGINAL-URL:https://msiapromos.com
X-WR-CALDESC:Events for MSIAPromos.com
BEGIN:VEVENT
DTSTART:20160331T000000
DTEND:20160401T235900
DTSTAMP:20260419T234508
CREATED:20160331T112241
LAST-MODIFIED:20160331T112252
UID:50714@https://msiapromos.com
SUMMARY:Acer 56% Off Full HD 3D Home Cinema Projector 24hr Deal 31 Mar - 1 Apr 2016
DESCRIPTION:Get the Acer P1510 1080p Full HD 3D Home Cinema Projector, 3500 Lumens, with HDMI at 56% off. Features 1080p Full HD resolution, 10,000 high contrast ratio and 3,500 lumens brightness for delivering flawless texts and graphics. For more information, visit [ https://msiapromos.com/computers-pc/acer-56-off-full-hd-3d-home-cinema-projector-24hr-deal-31-mar-1-apr-2016-50714/ ]. 
LOCATION:
URL:https://msiapromos.com/computers-pc/acer-56-off-full-hd-3d-home-cinema-projector-24hr-deal-31-mar-1-apr-2016-50714/
END:VEVENT
END:VCALENDAR