BEGIN:VCALENDAR
PRODID:-//MSIAPromos.com//NONSGML v1.0//EN
VERSION:2.0
CALSCALE:GREGORIAN
METHOD:PUBLISH
X-WR-CALNAME:MSIAPromos.com
X-ORIGINAL-URL:https://msiapromos.com
X-WR-CALDESC:Events for MSIAPromos.com
BEGIN:VEVENT
DTSTART:20160330T000000
DTEND:20160403T235900
DTSTAMP:20260419T234525
CREATED:20160330T172149
LAST-MODIFIED:20160330T172216
UID:50707@https://msiapromos.com
SUMMARY:Toys "R" Us Clearance SALE @ The Summit 30 Mar - 3 Apr 2016
DESCRIPTION:Toys "R" Us will be having a Clearance SALE for Star Members from 30 March to 3 April, 10am to 10pm. Get discounts of up to 70% OFF. For more information, visit [ https://msiapromos.com/warehouse-sales/toys-r-us-clearance-sale-the-summit-30-mar-3-apr-2016-50707/ ]. 
LOCATION:
URL:https://msiapromos.com/warehouse-sales/toys-r-us-clearance-sale-the-summit-30-mar-3-apr-2016-50707/
END:VEVENT
END:VCALENDAR