BEGIN:VCALENDAR
PRODID:-//MSIAPromos.com//NONSGML v1.0//EN
VERSION:2.0
CALSCALE:GREGORIAN
METHOD:PUBLISH
X-WR-CALNAME:MSIAPromos.com
X-ORIGINAL-URL:https://msiapromos.com
X-WR-CALDESC:Events for MSIAPromos.com
BEGIN:VEVENT
DTSTART:20160406T000000
DTEND:20160412T235900
DTSTAMP:20260419T234520
CREATED:20160330T171809
LAST-MODIFIED:20160330T171809
UID:50704@https://msiapromos.com
SUMMARY:Wah Lee Appliances Clearance Sale @ Penang 6 - 12 Apr 2016
DESCRIPTION:Wah Lee will be having a 7 days Electrical Appliances Clearance from 6 April to 12 April 2016. For more information, visit [ https://msiapromos.com/warehouse-sales/wah-lee-appliances-clearance-sale-penang-6-12-apr-2016-50704/ ]. 
LOCATION:
URL:https://msiapromos.com/warehouse-sales/wah-lee-appliances-clearance-sale-penang-6-12-apr-2016-50704/
END:VEVENT
END:VCALENDAR