BEGIN:VCALENDAR
PRODID:-//MSIAPromos.com//NONSGML v1.0//EN
VERSION:2.0
CALSCALE:GREGORIAN
METHOD:PUBLISH
X-WR-CALNAME:MSIAPromos.com
X-ORIGINAL-URL:https://msiapromos.com
X-WR-CALDESC:Events for MSIAPromos.com
BEGIN:VEVENT
DTSTART:20160401T000000
DTEND:20160403T235900
DTSTAMP:20260426T025241
CREATED:20160316T210747
LAST-MODIFIED:20160331T005045
UID:50412@https://msiapromos.com
SUMMARY:Wah Ha Group Warehouse Sale @ Puchong 1 - 3 Apr 2016
DESCRIPTION:Wah Ha Group will be having a Warehouse Sale from 1st April to 3rd Apr 2016 (Sunday), 10am - 6pm. For more information, visit [ https://msiapromos.com/warehouse-sales/sweet-heart-paris-warehouse-sale-puchong-1-3-apr-2016-50412/ ]. 
LOCATION:
URL:https://msiapromos.com/warehouse-sales/sweet-heart-paris-warehouse-sale-puchong-1-3-apr-2016-50412/
END:VEVENT
END:VCALENDAR