BEGIN:VCALENDAR
PRODID:-//MSIAPromos.com//NONSGML v1.0//EN
VERSION:2.0
CALSCALE:GREGORIAN
METHOD:PUBLISH
X-WR-CALNAME:MSIAPromos.com
X-ORIGINAL-URL:https://msiapromos.com
X-WR-CALDESC:Events for MSIAPromos.com
BEGIN:VEVENT
DTSTART:20160301T000000
DTEND:20160306T235900
DTSTAMP:20260419T221732
CREATED:20160302T201825
LAST-MODIFIED:20160302T201833
UID:50207@https://msiapromos.com
SUMMARY:Reject Shop Warehouse SALE 1 - 6 Mar 2016
DESCRIPTION:Reject Shop will be having a Warehouse SALE from 1 March to 6 March 2016. For more information, visit [ https://msiapromos.com/warehouse-sales/reject-shop-warehouse-sale-1-6-mar-2016-50207/ ]. 
LOCATION:
URL:https://msiapromos.com/warehouse-sales/reject-shop-warehouse-sale-1-6-mar-2016-50207/
END:VEVENT
END:VCALENDAR