BEGIN:VCALENDAR
PRODID:-//MSIAPromos.com//NONSGML v1.0//EN
VERSION:2.0
CALSCALE:GREGORIAN
METHOD:PUBLISH
X-WR-CALNAME:MSIAPromos.com
X-ORIGINAL-URL:https://msiapromos.com
X-WR-CALDESC:Events for MSIAPromos.com
BEGIN:VEVENT
DTSTART:20130606T000000
DTEND:20130609T235900
DTSTAMP:20260422T083548
CREATED:20130530T095846
LAST-MODIFIED:20130530T040205
UID:4992@https://msiapromos.com
SUMMARY:Mega Home Electrical & Home Fair 2013 @ MITC Melaka 6 - 9 Jun 2013
DESCRIPTION:Mega Home Electrical & Home Fair 2013 will be happening from from 6 June to 9 June at MITC Melaka.. For more information, visit [ https://msiapromos.com/happenings/mega-home-electrical-home-fair-2013-mitc-melaka-6-9-jun-2013-4992/ ]. 
LOCATION:
URL:https://msiapromos.com/happenings/mega-home-electrical-home-fair-2013-mitc-melaka-6-9-jun-2013-4992/
END:VEVENT
END:VCALENDAR