BEGIN:VCALENDAR
PRODID:-//MSIAPromos.com//NONSGML v1.0//EN
VERSION:2.0
CALSCALE:GREGORIAN
METHOD:PUBLISH
X-WR-CALNAME:MSIAPromos.com
X-ORIGINAL-URL:https://msiapromos.com
X-WR-CALDESC:Events for MSIAPromos.com
BEGIN:VEVENT
DTSTART:20151115T000000
DTEND:20151231T235900
DTSTAMP:20260423T124035
CREATED:20151116T140314
LAST-MODIFIED:20151116T140314
UID:48414@https://msiapromos.com
SUMMARY:Samsung TVs & Home Appliances Joy of Gifting Promo Offers 15 Nov - 31 Dec 2015
DESCRIPTION:Great Gifts for Everyone this Season of Joy. Enjoy special savings and free gifts today at your nearest Samsung authorized retail outlets, don't miss the great deals.. For more information, visit [ https://msiapromos.com/department-stores/samsung-tvs-home-appliances-joy-of-gifting-promo-offers-15-nov-31-dec-2015-48414/ ]. 
LOCATION:
URL:https://msiapromos.com/department-stores/samsung-tvs-home-appliances-joy-of-gifting-promo-offers-15-nov-31-dec-2015-48414/
END:VEVENT
END:VCALENDAR