BEGIN:VCALENDAR
PRODID:-//MSIAPromos.com//NONSGML v1.0//EN
VERSION:2.0
CALSCALE:GREGORIAN
METHOD:PUBLISH
X-WR-CALNAME:MSIAPromos.com
X-ORIGINAL-URL:https://msiapromos.com
X-WR-CALDESC:Events for MSIAPromos.com
BEGIN:VEVENT
DTSTART:20151114T000000
DTEND:20151211T235900
DTSTAMP:20260419T213017
CREATED:20151114T175728
LAST-MODIFIED:20151114T175728
UID:48389@https://msiapromos.com
SUMMARY:Zalora RM30 OFF RM90 Min Spend Coupon Code 14 Nov - 11 Dec 2015
DESCRIPTION:Enjoy RM30 OFF at Zalora with this coupon code.. For more information, visit [ https://msiapromos.com/department-stores/zalora-rm30-off-rm90-min-spend-coupon-code-14-nov-11-dec-2015-48389/ ]. 
LOCATION:
URL:https://msiapromos.com/department-stores/zalora-rm30-off-rm90-min-spend-coupon-code-14-nov-11-dec-2015-48389/
END:VEVENT
END:VCALENDAR