BEGIN:VCALENDAR
PRODID:-//MSIAPromos.com//NONSGML v1.0//EN
VERSION:2.0
CALSCALE:GREGORIAN
METHOD:PUBLISH
X-WR-CALNAME:MSIAPromos.com
X-ORIGINAL-URL:https://msiapromos.com
X-WR-CALDESC:Events for MSIAPromos.com
BEGIN:VEVENT
DTSTART:20151108T000000
DTEND:20151108T235900
DTSTAMP:20260422T083448
CREATED:20151108T123504
LAST-MODIFIED:20151108T123504
UID:48195@https://msiapromos.com
SUMMARY:Luxola $20 OFF $50 Min Spend Storewide 1-Day Coupon Code 8 Nov 2015
DESCRIPTION:Get $20 OFF storewide at Luxola with the coupon code below.. For more information, visit [ https://msiapromos.com/department-stores/luxola-20-off-50-min-spend-storewide-1-day-coupon-code-8-nov-2015-48195/ ]. 
LOCATION:
URL:https://msiapromos.com/department-stores/luxola-20-off-50-min-spend-storewide-1-day-coupon-code-8-nov-2015-48195/
END:VEVENT
END:VCALENDAR