BEGIN:VCALENDAR
PRODID:-//MSIAPromos.com//NONSGML v1.0//EN
VERSION:2.0
CALSCALE:GREGORIAN
METHOD:PUBLISH
X-WR-CALNAME:MSIAPromos.com
X-ORIGINAL-URL:https://msiapromos.com
X-WR-CALDESC:Events for MSIAPromos.com
BEGIN:VEVENT
DTSTART:20151104T000000
DTEND:20151111T235900
DTSTAMP:20260419T232134
CREATED:20151104T010346
LAST-MODIFIED:20151028T200400
UID:47889@https://msiapromos.com
SUMMARY:MiniInTheBox US$5 OFF US$45 Spend Storewide Coupon Code 4 - 11 Nov 2015
DESCRIPTION:Get US$5 OFF when you make a minimum purchase of US$45. FREE *worldwide* shipping.. For more information, visit [ https://msiapromos.com/department-stores/miniinthebox-us5-off-us45-spend-storewide-coupon-code-4-11-nov-2015-47889/ ]. 
LOCATION:
URL:https://msiapromos.com/department-stores/miniinthebox-us5-off-us45-spend-storewide-coupon-code-4-11-nov-2015-47889/
END:VEVENT
END:VCALENDAR