BEGIN:VCALENDAR
PRODID:-//MSIAPromos.com//NONSGML v1.0//EN
VERSION:2.0
CALSCALE:GREGORIAN
METHOD:PUBLISH
X-WR-CALNAME:MSIAPromos.com
X-ORIGINAL-URL:https://msiapromos.com
X-WR-CALDESC:Events for MSIAPromos.com
BEGIN:VEVENT
DTSTART:20151020T000000
DTEND:20151020T235900
DTSTAMP:20260422T083448
CREATED:20151020T171252
LAST-MODIFIED:20151020T171252
UID:47712@https://msiapromos.com
SUMMARY:Luxola 20% OFF Makeup (NO Min Spend) 1-Day Coupon Code 20 Oct 2015
DESCRIPTION:Get 20% OFF Makeup at Luxola with the coupon code below.. For more information, visit [ https://msiapromos.com/cosmetics/luxola-20-off-makeup-no-min-spend-1-day-coupon-code-20-oct-2015-47712/ ]. 
LOCATION:
URL:https://msiapromos.com/cosmetics/luxola-20-off-makeup-no-min-spend-1-day-coupon-code-20-oct-2015-47712/
END:VEVENT
END:VCALENDAR